BEGIN:VCALENDAR
VERSION:2.0
PRODID:-//Quinta Project - Queer Permaculture Farm - ECPv6.0.6.2//NONSGML v1.0//EN
CALSCALE:GREGORIAN
METHOD:PUBLISH
X-ORIGINAL-URL:https://quintaproject.org
X-WR-CALDESC:Events for Quinta Project - Queer Permaculture Farm
REFRESH-INTERVAL;VALUE=DURATION:PT1H
X-Robots-Tag:noindex
X-PUBLISHED-TTL:PT1H
BEGIN:VTIMEZONE
TZID:Europe/Lisbon
BEGIN:DAYLIGHT
TZOFFSETFROM:+0000
TZOFFSETTO:+0100
TZNAME:WEST
DTSTART:20250330T010000
END:DAYLIGHT
BEGIN:STANDARD
TZOFFSETFROM:+0100
TZOFFSETTO:+0000
TZNAME:WET
DTSTART:20251026T010000
END:STANDARD
END:VTIMEZONE
BEGIN:VEVENT
DTSTART;VALUE=DATE:20250623
DTEND;VALUE=DATE:20250629
DTSTAMP:20260421T212744
CREATED:20241018T172231Z
LAST-MODIFIED:20250610T093628Z
UID:2567-1750647600-1751079599@quintaproject.org
SUMMARY:Eros in Nature Week
DESCRIPTION:This Gathering is Full \nJoin us for a week of deep connection and exploration in the untamed beauty of the Quinta. Together\, we’ll immerse ourselves in themes of eros\, bodywork\, sensuality\, tantra\, and the powerful bonds that form when GBTQ-men come together in community. Each day\, we’ll co-create the next day’s program through an open-space format (see FAQ for details)\, allowing everyone to contribute their unique energy and ideas. This is an invitation to share\, explore\, and celebrate our connection to one another and the natural world around us. \n\n\n\n\n\n\n\n\n\n\nArrival/Departure\nPlease arrive on Monday afternoon/evening (there is a bus arriving from Lisbon at 11:50  in Marvão or 19:20 in Portagem).  After arrival\, we have dinner together. The gathering ends on Friday midday. Space permitting\, you are welcome to stay on for the weekend. Please check with me before booking your travel! \nFacilities/Accommodation\nThe accommodation will be in shared sleeping spaces in the main house or tents. \nFood\nAll food during the week will be cooked together and is shared (vegan) \nLocation:\nThe Quinta Project\, Marvão\, Portugal \nPrice: \nAll gatherings are free to attend. We ask for a deposit of €100 to secure your space. This deposit will be returned to you when you attend the gathering. If you fail to attend\, we will donate the deposit to ILGA Portugal. You will not be charged for food or accommodation. We cannot cover travel expenses to/from the Quinta. \nRegistration process:\nThis is a living\, experimental space where we work together to practice and model the kind of interactions we wish to see more of in the world. Before applying\, please consider whether or not you are committed to participating in a way that honours and celebrates the multi-faceted mission of the Quinta and that you are willing to co-create the week with your fellow participants. \nPlease read the gatherings FAQ first.\nOnce you have sent in the application form\, I’ll contact you to set up a Zoom call for us. During the call\, we can talk about any questions you may have. You then have a guaranteed place\, upon receipt of your deposit. \nPlease complete the registration form available here 
URL:https://quintaproject.org/event/eros-in-nature-week/
CATEGORIES:Theme Week,WorkWeek
ATTACH;FMTTYPE=image/png:https://quintaproject.org/wp-content/uploads/2024/10/natureeros.png
END:VEVENT
END:VCALENDAR