BEGIN:VCALENDAR
VERSION:2.0
PRODID:-//Quinta Project - Queer Permaculture Farm - ECPv6.0.6.2//NONSGML v1.0//EN
CALSCALE:GREGORIAN
METHOD:PUBLISH
X-WR-CALNAME:Quinta Project - Queer Permaculture Farm
X-ORIGINAL-URL:https://quintaproject.org
X-WR-CALDESC:Events for Quinta Project - Queer Permaculture Farm
REFRESH-INTERVAL;VALUE=DURATION:PT1H
X-Robots-Tag:noindex
X-PUBLISHED-TTL:PT1H
BEGIN:VTIMEZONE
TZID:Europe/Lisbon
BEGIN:DAYLIGHT
TZOFFSETFROM:+0000
TZOFFSETTO:+0100
TZNAME:WEST
DTSTART:20250330T010000
END:DAYLIGHT
BEGIN:STANDARD
TZOFFSETFROM:+0100
TZOFFSETTO:+0000
TZNAME:WET
DTSTART:20251026T010000
END:STANDARD
END:VTIMEZONE
BEGIN:VEVENT
DTSTART;VALUE=DATE:20250518
DTEND;VALUE=DATE:20250525
DTSTAMP:20260421T230128
CREATED:20241018T162608Z
LAST-MODIFIED:20241217T093219Z
UID:2560-1747537200-1748055599@quintaproject.org
SUMMARY:Spring Work Week (No Places Available)
DESCRIPTION:No Places Available at the moment \nSpring marks a time of renewal and growth\, as we prepare together for the warmth of summer. In this gathering\, we’ll come together to honour the land and celebrate its transition into the new season. Our mornings will be spent working side by side\, getting the land ready for the summer months ahead. In community spirit\, we’ll co-create our afternoons and evenings using the open space method\, giving everyone the chance to contribute (see FAQ for more details). \nArrival/Departure\nPlease arrive on Sunday afternoon/evening (there is a bus arriving from Lisbon at 19:20).  After arrival we have dinner together. The gathering ends on Friday midday. Space permitting\, you are welcome to stay on for the weekend. Please check with me before booking your travel! \nFacilities/Accommodation\nThe accommodation will be in shared sleeping spaces in the main house. \nFood\nAll food during the week will be cooked together and is shared (vegan) \nLocation:\nThe Quinta Project\, Marvão\, Portugal \nPrice: \nAll gatherings are free to attend. We ask for a deposit of €100 to secure your space. This deposit will be returned to you when you attend the gathering. If you fail to attend\, we will donate the deposit to ILGA Portugal. You will not be charged for food or accommodation. We cannot cover travel expenses to/from the Quinta. \nRegistration process:\nThis is a living\, experimental space where we work together to practice and model the kind of interactions we wish to see more of in the world. Before applying\, please consider whether or not you are committed to participating in a way that honours and celebrates the multi-faceted mission of the Quinta and that you are willing to co-create the week with your fellow participants. \nPlease read the gatherings FAQ first.\nOnce you have sent in the application form\, I’ll contact you to set up a Zoom call for us. During the call\, we can talk about any questions you may have. You then have a guaranteed place\, upon receipt of your deposit. \nPlease complete the registration form available here 
URL:https://quintaproject.org/event/spring-work-week-2025/
CATEGORIES:Theme Week,WorkWeek
ATTACH;FMTTYPE=image/jpeg:https://quintaproject.org/wp-content/uploads/2024/10/springworkweek.jpg
END:VEVENT
END:VCALENDAR