BEGIN:VCALENDAR
VERSION:2.0
PRODID:-//Quinta Project - Queer Permaculture Farm - ECPv6.0.6.2//NONSGML v1.0//EN
CALSCALE:GREGORIAN
METHOD:PUBLISH
X-ORIGINAL-URL:https://quintaproject.org
X-WR-CALDESC:Events for Quinta Project - Queer Permaculture Farm
REFRESH-INTERVAL;VALUE=DURATION:PT1H
X-Robots-Tag:noindex
X-PUBLISHED-TTL:PT1H
BEGIN:VTIMEZONE
TZID:Europe/Lisbon
BEGIN:DAYLIGHT
TZOFFSETFROM:+0000
TZOFFSETTO:+0100
TZNAME:WEST
DTSTART:20210328T010000
END:DAYLIGHT
BEGIN:STANDARD
TZOFFSETFROM:+0100
TZOFFSETTO:+0000
TZNAME:WET
DTSTART:20211031T010000
END:STANDARD
END:VTIMEZONE
BEGIN:VEVENT
DTSTART;TZID=Europe/Lisbon:20210816T193000
DTEND;TZID=Europe/Lisbon:20210816T203000
DTSTAMP:20260423T002936
CREATED:20210803T062508Z
LAST-MODIFIED:20211020T080512Z
UID:922-1629142200-1629145800@quintaproject.org
SUMMARY:Cross-Pollination Pod
DESCRIPTION:The Cross-Pollination Pod (formerly the Land Project Group) is the meeting place for everyone involved (or interested) in the pods steering the Quinta Project. The Cross-Pollination Pod coordinates the pods activities and ensures everyone knows what is going on! \nAccessing the Event: \nThis is an invitation only event. To get an invitation\, please email hello@quinta.lgbt \nThis event is usually on the 3rd Monday of the month at 19:30 Lisbon time. \nPlease note: all times are Lisbon times!
URL:https://quintaproject.org/event/land-project-group/2021-08-16/
CATEGORIES:Landproject
ATTACH;FMTTYPE=image/png:https://quintaproject.org/wp-content/uploads/2021/08/landproject.png
END:VEVENT
END:VCALENDAR