BEGIN:VCALENDAR
VERSION:2.0
PRODID:-//Quinta Project - Queer Permaculture Farm - ECPv6.0.6.2//NONSGML v1.0//EN
CALSCALE:GREGORIAN
METHOD:PUBLISH
X-WR-CALNAME:Quinta Project - Queer Permaculture Farm
X-ORIGINAL-URL:https://quintaproject.org
X-WR-CALDESC:Events for Quinta Project - Queer Permaculture Farm
REFRESH-INTERVAL;VALUE=DURATION:PT1H
X-Robots-Tag:noindex
X-PUBLISHED-TTL:PT1H
BEGIN:VTIMEZONE
TZID:Europe/Lisbon
BEGIN:DAYLIGHT
TZOFFSETFROM:+0000
TZOFFSETTO:+0100
TZNAME:WEST
DTSTART:20210328T010000
END:DAYLIGHT
BEGIN:STANDARD
TZOFFSETFROM:+0100
TZOFFSETTO:+0000
TZNAME:WET
DTSTART:20211031T010000
END:STANDARD
END:VTIMEZONE
BEGIN:VEVENT
DTSTART;TZID=Europe/Lisbon:20210425T200000
DTEND;TZID=Europe/Lisbon:20210425T213000
DTSTAMP:20260420T111222
CREATED:20210411T122655Z
LAST-MODIFIED:20210502T122749Z
UID:771-1619380800-1619386200@quintaproject.org
SUMMARY:The Artist's Way Creative Cluster
DESCRIPTION:A 12-week journey to discover\, uncover\, recover and fully unleash your creativity\, passion and joy in this peer-supported group based on the book The Artist’s Way by Julia Cameron. \nWe follow the full 12 weeks of the course – as set out in the book. You need the book to follow this course. The book is available from your favourite bookseller (and online here).  There are various editions of the book\, so prices may vary. \nThe first week starts on the 25. April where we prepare and have a chance to get to know each other. After this\, we will proceed with one chapter/set of exercises each week. \n\n25 April: Welcome and get to know each other\n2 May: Chapter/Week 1\n9 May: Chapter/Week 2\n16 May: Chapter/Week 3\n23 May: Chapter/Week 4\n30 May: Chapter/Week 5\n6 June: Chapter/Week 6\n13 June: Chapter/Week 7\n20 June: Chapter/Week 8\n27 June: Chapter/Week 9\n4 July: Chapter/Week 10\n11 July: Chapter/Week 11\n18 July: Chapter/Week 12 – and goodbye!\n\nYou do not have to commit to attending all the time\, and you are welcome to join the group at any time. Please remember\, however\, that we will be talking about the set tasks for that week. \nThe meeting is at 8 pm Lisbon time (UTC+1) – and will last for approximately an hour and a half. \nIf you have any questions\, please go to the forum thread about this course.  \nPlease note:\nThe meeting is FREE\, however\, you need to register on Zoom each week to access the meeting.\nThe link to register is: https://us02web.zoom.us/meeting/register/tZAlc-uoqT8uGtetR2_5q4x6xJM225DiVv2W \n  \nThe Artist’s Way Creative Cluster
URL:https://quintaproject.org/event/the-artists-way-creative-cluster/2021-04-25/
CATEGORIES:The Artist's Way
ATTACH;FMTTYPE=image/png:https://quintaproject.org/wp-content/uploads/2021/04/Copy-of-Copy-of-Now-Shwing.png
END:VEVENT
END:VCALENDAR